BEGIN:VCALENDAR
VERSION:2.0
PRODID:-//ChamberMaster//Event Calendar 2.0//EN
METHOD:PUBLISH
X-PUBLISHED-TTL:P1H
REFRESH-INTERVAL:P1H
CALSCALE:GREGORIAN
BEGIN:VTIMEZONE
TZID:America/New_York
BEGIN:DAYLIGHT
RRULE:FREQ=YEARLY;BYMONTH=3;BYDAY=2SU
DTSTART:20070101T000000
TZOFFSETFROM:-0500
TZOFFSETTO:-0400
TZNAME:Eastern Daylight Time
END:DAYLIGHT
BEGIN:STANDARD
RRULE:FREQ=YEARLY;BYMONTH=11;BYDAY=1SU
DTSTART:20070101T000000
TZOFFSETFROM:-0400
TZOFFSETTO:-0500
TZNAME:Eastern Standard Time
END:STANDARD
END:VTIMEZONE
BEGIN:VEVENT
DTSTART;TZID=America/New_York:20260527T180000
DTEND;TZID=America/New_York:20260527T200000
X-MICROSOFT-CDO-ALLDAYEVENT:FALSE
SUMMARY:Leadership Plus: Honoring the 2026 LEA Nominees & Toasting the Class of 2026
DESCRIPTION:The Leadership PBC Alumni Committee invites you to join them on Wednesday\, May 27\, 2026 at the Lake Worth Beach Club for a Leadership Plus Happy Hour. At this event\, we will be announcing the Leadership Excellence Award nominees. We will also be toasting the Leadership Engage Class of 2026 for the completion of their session days. The evening will go as follows: 6pm - 7pm: Check-In\, Mingling\, Food   7pm: Short Program honoring 2026 LEA Nominees. Tickets include admission\, hors d'oeuvres\, and one beer or wine. Additional drinks will be available for purchase. Leadership Plus is open to community members\, not just Leadership PBC Alumni.
X-ALT-DESC;FMTTYPE=text/html:The Leadership PBC Alumni Committee invites you to join them on Wednesday\, May 27\, 2026 at the Lake Worth Beach Club for a Leadership Plus Happy Hour. At this event\, we will be announcing the Leadership Excellence Award nominees. We will also be toasting the Leadership Engage Class of 2026 for the completion of their session days. The evening will go as follows: 6pm - 7pm: Check-In\, Mingling\, Food & Drink\; 7pm: Short Program honoring 2026 LEA Nominees. Tickets include admission\, hors d'oeuvres\, and one beer or wine. Additional drinks will be available for purchase. Leadership Plus is open to community members\, not just Leadership PBC Alumni.
LOCATION:One 7th Avenue North Lake Worth FL 33460
UID:e.489.1444165
SEQUENCE:3
DTSTAMP:20260420T144749Z
URL:https://members.leadershippbc.org/events/Details/leadership-plus-honoring-the-2026-lea-nominees-toasting-the-class-of-2026-1710534?sourceTypeId=Hub
END:VEVENT
END:VCALENDAR
